BEGIN:VCALENDAR
VERSION:2.0
PRODID:-//InvisionCommunity Events 4.7.19//EN
METHOD:PUBLISH
CALSCALE:GREGORIAN
REFRESH-INTERVAL:PT15M
X-PUBLISHED-TTL:PT15M
X-WR-CALNAME:Клубные мероприяти
NAME:Клубные мероприяти
BEGIN:VTIMEZONE
TZID:Europe/London
TZURL:http://tzurl.org/zoneinfo/Europe/London
X-LIC-LOCATION:Europe/London
BEGIN:DAYLIGHT
TZOFFSETFROM:+0000
TZOFFSETTO:+0100
TZNAME:BST
DTSTART:20210328T020000Z
RRULE:FREQ=YEARLY;BYMONTH=3;BYDAY=-1SU
END:DAYLIGHT
BEGIN:STANDARD
TZOFFSETFROM:+0100
TZOFFSETTO:+0000
TZNAME:GMT
DTSTART:20211031T020000Z
RRULE:FREQ=YEARLY;BYMONTH=10;BYDAY=-1SU
END:STANDARD
END:VTIMEZONE
BEGIN:VEVENT
SUMMARY:Roadshow 2021 \"ВОСТОК\"
DTSTAMP:20210301T203204Z
SEQUENCE:0
UID:100-1-11684422a1d48435d15960105bb91fb7@mustangclub.ru
ORGANIZER;CN="Memphis":info@mustangclub.ru
DESCRIPTION:\n	Russian Mustang Club представляет RoadS
	how 2021 \"ВОСТОК\"\n\n\n\n	Подробности и рег
	истрация: https://roadshow.mustangclub.ru/\n\n\n\n
		Стоимость участия:\n\n\n\n	37000
	 руб/чел\n\n\n\n	В программу вкл
	ючено: \n\n\n\n		Проживание в отеля
	х 3-4* в  номерах dbl (7 ночей)\n	\n	\
	n		Завтраки\, обеды и уж
	ины\n	\n	\n		Ежедне
	вные экскурс
	ии по програ
	мме\, включая все в
	ходные билеты и экскур
	сионное обслуживание\n	\n	\n		
	Фирменные RoadShow сувениры\n
		\n	\n		Море положительных эмоц
	ий\n	\n\n	В программу НЕ включено
	:\n\n\n\n		Бензин\n	\n	\n		Платные д
	ороги и парковки\n	\n	\n		Д
	рэг заезды Нижнем Новго
	роде\n	\n	\n		Алкоголь\n
			\n			Стоимость расс
	читана на человека
	 при двухместном раз
	мещении.\n\n			Для 
	того\, чтобы 
	взять 3-го у
	частника 
	– необход
	имо связат
	ься с организат
	орами. Не забудьте указать 
	возраст третьего участника.
	\n		\n	\n\n	 \n\n\n\n	Крайний срок рег
	истрации и оплаты 20 июня 2021 г.
	\n\n\n\n	 \n\n\n\n	До встречи в путешествии!\n\n\n\
	n	 \n
DTSTART:20210703T050000Z
DTEND:20210710T190000Z
ATTENDEE;CN="Memphis";CUTYPE=INDIVIDUAL;PARTSTAT=ACCEPTED:in
	fo@mustangclub.ru
ATTENDEE;CN="rugpoTA3uk";CUTYPE=INDIVIDUAL;PARTSTAT=ACCEPTED
	:info@mustangclub.ru
ATTENDEE;CN="Mery";CUTYPE=INDIVIDUAL;PARTSTAT=ACCEPTED:info@
	mustangclub.ru
ATTENDEE;CN="Северный Ветер";CUTYPE=INDIVIDUAL;
	PARTSTAT=ACCEPTED:info@mustangclub.ru
ATTENDEE;CN="Костик";CUTYPE=INDIVIDUAL;PARTSTAT=ACCEPT
	ED:info@mustangclub.ru
ATTENDEE;CN="Moonraker";CUTYPE=INDIVIDUAL;PARTSTAT=ACCEPTED:
	info@mustangclub.ru
ATTENDEE;CN="DimaBOSS";CUTYPE=INDIVIDUAL;PARTSTAT=ACCEPTED:i
	nfo@mustangclub.ru
ATTENDEE;CN="koka";CUTYPE=INDIVIDUAL;PARTSTAT=ACCEPTED:info@
	mustangclub.ru
ATTENDEE;CN="Apryl";CUTYPE=INDIVIDUAL;PARTSTAT=ACCEPTED:info
	@mustangclub.ru
ATTENDEE;CN="Lazy";CUTYPE=INDIVIDUAL;PARTSTAT=ACCEPTED:info@
	mustangclub.ru
ATTENDEE;CN="Maxus";CUTYPE=INDIVIDUAL;PARTSTAT=ACCEPTED:info
	@mustangclub.ru
ATTENDEE;CN="Talylrar";CUTYPE=INDIVIDUAL;PARTSTAT=ACCEPTED:i
	nfo@mustangclub.ru
ATTENDEE;CN="BrokenSword";CUTYPE=INDIVIDUAL;PARTSTAT=ACCEPTE
	D:info@mustangclub.ru
ATTENDEE;CN="Graf";CUTYPE=INDIVIDUAL;PARTSTAT=ACCEPTED:info@
	mustangclub.ru
ATTENDEE;CN="spbubk";CUTYPE=INDIVIDUAL;PARTSTAT=ACCEPTED:inf
	o@mustangclub.ru
ATTENDEE;CN="ARst";CUTYPE=INDIVIDUAL;PARTSTAT=ACCEPTED:info@
	mustangclub.ru
ATTENDEE;CN="LeeVanCleef";CUTYPE=INDIVIDUAL;PARTSTAT=ACCEPTE
	D:info@mustangclub.ru
ATTENDEE;CN="Winston";CUTYPE=INDIVIDUAL;PARTSTAT=ACCEPTED:in
	fo@mustangclub.ru
ATTENDEE;CN="Plotnikov";CUTYPE=INDIVIDUAL;PARTSTAT=ACCEPTED:
	info@mustangclub.ru
ATTENDEE;CN="mrak88bes";CUTYPE=INDIVIDUAL;PARTSTAT=ACCEPTED:
	info@mustangclub.ru
END:VEVENT
END:VCALENDAR
