BEGIN:VCALENDAR
VERSION:2.0
PRODID:-//InvisionCommunity Events 4.7.19//EN
METHOD:PUBLISH
CALSCALE:GREGORIAN
REFRESH-INTERVAL:PT15M
X-PUBLISHED-TTL:PT15M
X-WR-CALNAME:Клубные мероприяти
NAME:Клубные мероприяти
BEGIN:VTIMEZONE
TZID:Europe/London
TZURL:http://tzurl.org/zoneinfo/Europe/London
X-LIC-LOCATION:Europe/London
BEGIN:DAYLIGHT
TZOFFSETFROM:+0000
TZOFFSETTO:+0100
TZNAME:BST
DTSTART:20220327T020000Z
RRULE:FREQ=YEARLY;BYMONTH=3;BYDAY=-1SU
END:DAYLIGHT
BEGIN:STANDARD
TZOFFSETFROM:+0100
TZOFFSETTO:+0000
TZNAME:GMT
DTSTART:20221030T020000Z
RRULE:FREQ=YEARLY;BYMONTH=10;BYDAY=-1SU
END:STANDARD
END:VTIMEZONE
BEGIN:VEVENT
SUMMARY:Нижний Новгород Drive'n'Fun
DTSTAMP:20220607T162449Z
SEQUENCE:0
UID:120-1-11684422a1d48435d15960105bb91fb7@mustangclub.ru
ORGANIZER;CN="Memphis":info@mustangclub.ru
DESCRIPTION:\n	 \n\n\n\n	\n\n\n	Ежег
	одный кубный выез
	д в Нижний Новогоро
	д.\n\n\n\n	Традицион
	ный формат мер
	оприятия - вес
	елая тусовка\, 
	барбекю пати
	\, культурна
	я программа и коне
	чно же заезды на Нижегор
	одской кольцевой трассе NRING.\n
	\n\n\n	Программа:\n\n\n\n	12 АВГУСТА МОСК
	ВА – Н.-НОВГОРОД\n\n\n\n	1
	0:00 - Сбор участнико
	в мероприятия на выезде из
	 Москвы. ш. Энтузиастов\, 44\, заправка T
	eboil (бывшая Shell).\n\n\n\n	gps 55.793890\, 37.943092\n\n\n\n
		18:00 – Прибытие в Spa Village NRING. \n \n\n	gps 56.122170
	\, 43.603623\n\n\n\n	\n\n	19:00 – Ужин.\n\n	21:00 – Баня.
	\n\n\n\n	13 АВГУСТА. Культутная
	 программа. Чкаловск.\n\n	06.0
	0 – Завтрак.\n\n	06.30 – Выезд
	 автобуса на речной во
	кзал.\n\n	08.00 – Отпра
	вление на экскурсию в
	 г. Чкаловск на СПК «Вал
	дай».\n\n	16.00 – Возвращение
	 на речной вокзал\, Нижний Новгоро
	д.\n\n	16.15 – Трансфер до Spa Village NRING. \n\n	18.
	30 – Ужин.\n\n	21.00 – Вечерняя тус
	овка\, баня.\n\n\n\n	\n
	14 АВГУСТА Кольцевые за
	езды «КУБОК Росийского Мустанг
	 Клуба 2022»\n\n	8:00 – Завтрак.\n\n	9
	:00 – Заезды на NRing\, Кубок Р
	оссийского Мустанг Клу
	ба.\n\n	13:00 - Окончание меро
	приятия\, отбытие в Москву
	.\n\n\n\n	Стоимость участия -
	 12000₽/чел при двухместн
	ом размещении.\n\n\n\n	Для у
	частников заездов +6
	000₽\n\n\n\n	Места
	 гарантированы тольк
	о для мемберов оплативших уч
	астие до 8 июля 2022 г.\n\n\n\n	Отмечаемся!\n\n\n\n
		\n\n\n\n	 \n\n\n\n	\n\n\n\n	 \n\n\n\n	\n\n\n\n	\n\n\n\n	\n\n\n\n	\n\n\n
	\n	\n\n\n\n	 \n\n\n\n	 \n\n\n\n	 \n
DTSTART;VALUE=DATE:20220812
DTEND;VALUE=DATE:20220815
ATTENDEE;CN="Mery";CUTYPE=INDIVIDUAL;PARTSTAT=ACCEPTED:info@
	mustangclub.ru
ATTENDEE;CN="gofer";CUTYPE=INDIVIDUAL;PARTSTAT=ACCEPTED:info
	@mustangclub.ru
ATTENDEE;CN="Lazy";CUTYPE=INDIVIDUAL;PARTSTAT=ACCEPTED:info@
	mustangclub.ru
ATTENDEE;CN="Костик";CUTYPE=INDIVIDUAL;PARTSTAT=ACCEPT
	ED:info@mustangclub.ru
ATTENDEE;CN="Talylrar";CUTYPE=INDIVIDUAL;PARTSTAT=ACCEPTED:i
	nfo@mustangclub.ru
ATTENDEE;CN="DeemoNbl4";CUTYPE=INDIVIDUAL;PARTSTAT=ACCEPTED:
	info@mustangclub.ru
ATTENDEE;CN="rugpoTA3uk";CUTYPE=INDIVIDUAL;PARTSTAT=ACCEPTED
	:info@mustangclub.ru
ATTENDEE;CN="Dzepo";CUTYPE=INDIVIDUAL;PARTSTAT=ACCEPTED:info
	@mustangclub.ru
ATTENDEE;CN="Северный Ветер";CUTYPE=INDIVIDUAL;
	PARTSTAT=ACCEPTED:info@mustangclub.ru
ATTENDEE;CN="Arman";CUTYPE=INDIVIDUAL;PARTSTAT=ACCEPTED:info
	@mustangclub.ru
ATTENDEE;CN="exploiter";CUTYPE=INDIVIDUAL;PARTSTAT=ACCEPTED:
	info@mustangclub.ru
ATTENDEE;CN="DimaBOSS";CUTYPE=INDIVIDUAL;PARTSTAT=ACCEPTED:i
	nfo@mustangclub.ru
ATTENDEE;CN="Winston";CUTYPE=INDIVIDUAL;PARTSTAT=ACCEPTED:in
	fo@mustangclub.ru
ATTENDEE;CN="Acidlight";CUTYPE=INDIVIDUAL;PARTSTAT=ACCEPTED:
	info@mustangclub.ru
ATTENDEE;CN="Memphis";CUTYPE=INDIVIDUAL;PARTSTAT=ACCEPTED:in
	fo@mustangclub.ru
ATTENDEE;CN="Mash77";CUTYPE=INDIVIDUAL;PARTSTAT=ACCEPTED:inf
	o@mustangclub.ru
END:VEVENT
END:VCALENDAR
