BEGIN:VCALENDAR
VERSION:2.0
PRODID:-//InvisionCommunity Events 4.7.19//EN
METHOD:PUBLISH
CALSCALE:GREGORIAN
REFRESH-INTERVAL:PT15M
X-PUBLISHED-TTL:PT15M
X-WR-CALNAME:Клубные мероприяти
NAME:Клубные мероприяти
BEGIN:VTIMEZONE
TZID:Europe/London
TZURL:http://tzurl.org/zoneinfo/Europe/London
X-LIC-LOCATION:Europe/London
BEGIN:DAYLIGHT
TZOFFSETFROM:+0000
TZOFFSETTO:+0100
TZNAME:BST
DTSTART:20240331T020000Z
RRULE:FREQ=YEARLY;BYMONTH=3;BYDAY=-1SU
END:DAYLIGHT
BEGIN:STANDARD
TZOFFSETFROM:+0100
TZOFFSETTO:+0000
TZNAME:GMT
DTSTART:20241027T020000Z
RRULE:FREQ=YEARLY;BYMONTH=10;BYDAY=-1SU
END:STANDARD
END:VTIMEZONE
BEGIN:VEVENT
SUMMARY:Клубный выезд на «За рулем фест»
DTSTAMP:20240618T215110Z
SEQUENCE:0
UID:155-1-11684422a1d48435d15960105bb91fb7@mustangclub.ru
ORGANIZER;CN="Memphis":info@mustangclub.ru
DESCRIPTION:\n	23 июня на дрэгстрипе 
	RDRC Racepark Быково пройдёт «
	За Рулем фест»!\n\n
	\n\n	В программе фе
	стиваля Гонки на че
	тверть мили весь день!\n\n	Др
	эг БАТЛ - Америка VS Европа VS
	 Япония! \n\n\n\n	\n\n
		Чувствуешь потенциал
	? Регистрируйся в качес
	тве участника! \n\n	 \n
	\n\n\n	Не чувствуешь - при
	езжай поддержать быстры
	х соклубников :)\n\n\n\n	
	\n\n	Если у те
	бя красивый
	 ухоженный Мустан
	г\, приглашаем сос
	тавить Клубную экспозицию.\n\
	n\n\n	Подробнее о мероприятии: https://rwd.ru/zarul
	emfest\n\n\n\n	 \n\n\n\n	\n
DTSTART:20240623T070000Z
DTEND:20240623T160000Z
ATTENDEE;CN="Memphis";CUTYPE=INDIVIDUAL;PARTSTAT=ACCEPTED:in
	fo@mustangclub.ru
ATTENDEE;CN="Alcatraz";CUTYPE=INDIVIDUAL;PARTSTAT=ACCEPTED:i
	nfo@mustangclub.ru
END:VEVENT
END:VCALENDAR
