BEGIN:VCALENDAR
VERSION:2.0
PRODID:-//InvisionCommunity Events 4.7.19//EN
METHOD:PUBLISH
CALSCALE:GREGORIAN
REFRESH-INTERVAL:PT15M
X-PUBLISHED-TTL:PT15M
X-WR-CALNAME:Клубные мероприяти
NAME:Клубные мероприяти
BEGIN:VTIMEZONE
TZID:Europe/London
TZURL:http://tzurl.org/zoneinfo/Europe/London
X-LIC-LOCATION:Europe/London
BEGIN:DAYLIGHT
TZOFFSETFROM:+0000
TZOFFSETTO:+0100
TZNAME:BST
DTSTART:20250330T020000Z
RRULE:FREQ=YEARLY;BYMONTH=3;BYDAY=-1SU
END:DAYLIGHT
BEGIN:STANDARD
TZOFFSETFROM:+0100
TZOFFSETTO:+0000
TZNAME:GMT
DTSTART:20251026T020000Z
RRULE:FREQ=YEARLY;BYMONTH=10;BYDAY=-1SU
END:STANDARD
END:VTIMEZONE
BEGIN:VEVENT
SUMMARY:Открытие сезона 2025! Конаково Аэр
	о
DTSTAMP:20250407T071048Z
SEQUENCE:0
UID:163-1-11684422a1d48435d15960105bb91fb7@mustangclub.ru
ORGANIZER;CN="Memphis":info@mustangclub.ru
DESCRIPTION:\n	Открытие сезона 2025!\n\n\n
	\n	Уважаемые мемберы
	!\n\n\n\n	Мероприятие
	 пройдёт в привычн
	ом для Клуба месте
	 \"Конаково Аэро\" 
	-  4 звёздочный
	 отель в живопи
	сном лесу с па
	тио-зоной над
	 прудом и аэро
	дромом\, на ко
	тором мы обя
	зательно оставим
	 чуть-чуть резины в об
	мен на адреналин и 
	яркие эмоции!\n\n\n\n	
	Для нас взлет
	но-посадочная 
	полоса \"Конако
	во Аэро\" прев
	ратится на 
	несколько ча
	сов в дрэг 
	стрип! Кл
	убный дрэ
	г-междус
	обойчик 
	проведе
	т для нас
	 професс
	иональна
	я команда
	 с профес
	сиональн
	ым хрономе
	тражем. Отлич
	ная возможнос
	ть сравнить дин
	амику своего ко
	ня с другими\, 
	а так же получить та
	ймслип и фото своег
	о Мустанга на аэрод
	роме!\n\n\n\n	Во 
	второй поло
	вине дня у н
	ас внезапно н
	аступит поста
	покалипсис\,  и
	счезнет вода 
	и бензин\, вс
	ё вокруг пре
	вратится в в
	ыжженную Пус
	тошь. Выжить б
	удет возможн
	о только с о
	ружием в рук
	ах примкнув к
	 одному из двух
	 противоборствующих кла
	нов. Как назло\, именно в
	 этот день\, 17 мая 30
	25 г. состоит
	ся финальное с
	ражение за власть
	 над последними ос
	тавшимися ресурса
	ми.\n\n\n\n	Тёплая кл
	убная атмосфер
	а (мероприятие 
	только для мемберов
	)\, вечерняя тусовка\,
	 много вкусной еды от наши
	х BBQ-гуру - все в комплекте!\n\n\n
	\n	Примерный план:\n\n\n\n	Пятница 16 м
	ая\n\n\n\n	·         20:0
	0 –22:00 сбор и размещение и
	ногородних участников\n\n	 \n\n\n
	\n	Суббота 17 мая\n\n\n\n	·         
	10:00 –11:00 сбор участников\n\n\n\n
		·         12:00 – 15:00 дрэг-гонки
	\n\n\n\n	·         15:00 – 17:00 в
	кусная еда от наших шефов\n\
	n\n\n	·         16:00 – 1
	8:00 - время наступления
	 постапокалипсиса\, сражение 
	кланов! \n\n\n\n	·         20:00
	 – 00:00 тусовка\, наг
	раждения\, планы на сезо
	н\, тематические конкурсы\n\n\n
	\n	·         18:00 – 22:00 BBQ-
	пати с душой и креативом Антона
	 Lazy и Миши Phule\n\n\n\n	Воскресенье 18 м
	ая\n\n\n\n	·         10:00 –11:00 
	Завтрак (шведский стол).\n\n\
	n\n	·         12:00 – 16
	:00 Свободное вр
	емя\, которое мож
	но потратить все
	 на тот же верёвоч
	ный парк\, баню\
	, рыбалку\, кроссовые
	 мотики\, полёты на вертолёте/с
	амолете.\n\n\n\n	·         16:00 –
	 18:00 - окончание мероприя
	тия\n\n\n\n	Дресс-код: Безум
	ный Макс\, cтимпанк\n\n\n\n	Стоимост
	ь участия:\n\n\n\n	2 ночи с 16 по 18 мая - 1
	7900 ₽/чел\n\n	1 ночь с 17 по 18 мая - 1
	2400 ₽/чел\n\n	1 день без ночевки 
	- 7600 ₽/чел\n\n\n\n	Для
	 детей допла
	та только з
	а размещение в за
	висиомсти от возра
	ста и желаемого уро
	вня комфорта.\n\n\n\n
		За доплату мо
	жно расположит
	ься в 4х местном
	 доме с сауной
	 и уличным джакузи или
	 в люксе с панорамны
	м видом на аэродром.\n
	\n\n\n	По умолчанию 
	цена включает в
	 себя 2х местное 
	размещение\, за
	втрак «шведск
	ий стол»\, обе
	д\, вечерня
	я барбекю-т
	усовка с раз
	нообразной 
	едой и безалк
	огольными н
	апиткам\, у
	частие в гонках на 
	аэродроме и другая развлекательная
	 программа.\n\n\n\n	Check In - 16:00\n\n\n\n	Check out - 12:00
	\n\n\n\n	Количество номеров огра
	ничено.\n\n\n\n	Заявка на участие:\n\n	https://forms.
	gle/1rJ9aQ1L5TB66m9m7\n\n	\n\n	Оплати
	ть участие можн
	о по ссылке (скопировать-отр
	ыть в браузере) любой картой:\n\n	https://www.tbank
	.ru/cf/5EKvtlxU3Yv\n\n\n\n	или по номеру телефон
	а +79161386205 (Тиньков)\n\n\n\n	Место
	 проведения:\n\n	Конаково Аэро\n\n	Яндек
	с Карты:  https://yandex.ru/maps/-/CCUsmNEWCC\n\n	Google карты
	: https://goo.gl/maps/LQ2aYaVfXkCh8cjJA\n\n	56.633146\, 36.879857\n\n\n\n	
	 \n\n\n\n	\n\n\n\n	\n\n\n\n	\n\n\n\n	\n\n\n\n	\n\n\n\n	\n\n\n\n	\n\n\n\n
		 \n\n\n\n	 \n\n\n\n	\n\n\n\n	\n\n\n\n	\n\n\n\n	\n\n\n\n	\n\n
DTSTART;VALUE=DATE:20250517
DTEND;VALUE=DATE:20250519
ATTENDEE;CN="SlavikM";CUTYPE=INDIVIDUAL;PARTSTAT=ACCEPTED:in
	fo@mustangclub.ru
ATTENDEE;CN="Antves";CUTYPE=INDIVIDUAL;PARTSTAT=ACCEPTED:inf
	o@mustangclub.ru
ATTENDEE;CN="007";CUTYPE=INDIVIDUAL;PARTSTAT=ACCEPTED:info@m
	ustangclub.ru
ATTENDEE;CN="LeeVanCleef";CUTYPE=INDIVIDUAL;PARTSTAT=ACCEPTE
	D:info@mustangclub.ru
ATTENDEE;CN="Graf";CUTYPE=INDIVIDUAL;PARTSTAT=ACCEPTED:info@
	mustangclub.ru
ATTENDEE;CN="Scream";CUTYPE=INDIVIDUAL;PARTSTAT=ACCEPTED:inf
	o@mustangclub.ru
ATTENDEE;CN="Memphis";CUTYPE=INDIVIDUAL;PARTSTAT=ACCEPTED:in
	fo@mustangclub.ru
ATTENDEE;CN="buukabuu";CUTYPE=INDIVIDUAL;PARTSTAT=ACCEPTED:i
	nfo@mustangclub.ru
ATTENDEE;CN="Mery";CUTYPE=INDIVIDUAL;PARTSTAT=ACCEPTED:info@
	mustangclub.ru
ATTENDEE;CN="TheYellowHB";CUTYPE=INDIVIDUAL;PARTSTAT=ACCEPTE
	D:info@mustangclub.ru
ATTENDEE;CN="Tundra Odinson";CUTYPE=INDIVIDUAL;PARTSTAT=ACCE
	PTED:info@mustangclub.ru
ATTENDEE;CN="palych";CUTYPE=INDIVIDUAL;PARTSTAT=ACCEPTED:inf
	o@mustangclub.ru
ATTENDEE;CN="Apryl";CUTYPE=INDIVIDUAL;PARTSTAT=ACCEPTED:info
	@mustangclub.ru
END:VEVENT
END:VCALENDAR
