BEGIN:VCALENDAR
VERSION:2.0
PRODID:-//InvisionCommunity Events 4.7.19//EN
METHOD:PUBLISH
CALSCALE:GREGORIAN
REFRESH-INTERVAL:PT15M
X-PUBLISHED-TTL:PT15M
X-WR-CALNAME:Клубные мероприяти
NAME:Клубные мероприяти
BEGIN:VTIMEZONE
TZID:Europe/London
TZURL:http://tzurl.org/zoneinfo/Europe/London
X-LIC-LOCATION:Europe/London
BEGIN:DAYLIGHT
TZOFFSETFROM:+0000
TZOFFSETTO:+0100
TZNAME:BST
DTSTART:20170326T020000Z
RRULE:FREQ=YEARLY;BYMONTH=3;BYDAY=-1SU
END:DAYLIGHT
BEGIN:STANDARD
TZOFFSETFROM:+0100
TZOFFSETTO:+0000
TZNAME:GMT
DTSTART:20171029T020000Z
RRULE:FREQ=YEARLY;BYMONTH=10;BYDAY=-1SU
END:STANDARD
END:VTIMEZONE
BEGIN:VEVENT
SUMMARY:Закрытие сезона СПБ 2017
DTSTAMP:20171031T105732Z
SEQUENCE:0
UID:55-1-11684422a1d48435d15960105bb91fb7@mustangclub.ru
ORGANIZER;CN="DeemoNbl4":info@mustangclub.ru
DESCRIPTION:\n\n	Дорогие друзья! \n\n\n
	\n	 \n\n\n\n	Пора восс
	тановить зван
	ие питерской части
	 клуба\, как самых дру
	жных\, активных и с
	плоченных)\n\n\n
	\n	Приглашаю в
	ас принять 
	участие в очередном
	 феноменальном событии 
	года - Закрытие сезона 2017!
	\n\n\n\n	Мероприятие состоится с
	 10 по 12 ноября 2017 включ
	ительно\n\n\n\n	Ссылка на форм
	у регистрации в мероприятии:  https://goo.gl/form
	s/UsU3bs44ZnvlFsJk1\n\n\n\n	 \n\n\n\n	Мес
	то проведения:  Ленингр
	адская область\, б/о Драгунский ручей http:
	//www.arenda-doma.net/contact.html\n\n\n\n	Стоимость
	 проживания с 10-12 ноября (2 но
	чи и 3 дня) - 2 700р с человека (за ВС
	Е дни)\n\n\n\n	заезд 10 ноября с 10:00\, выез
	д 12 ноября до 23:00\n\n\n\n
		Дополнительно
	\, в зависимости
	 от ответов в а
	нкете\, будет добавле
	на стоимость питания
	\, напитков и алкоголя
	\n\n\n\n	(если вы решит
	е приехать тол
	ько на одну н
	очь\, вам в л
	юбом случае необхо
	димо будет оплатить прожив
	ание за все выходные)\n\n\
	n\n	 \n\n\n\n	Просьба 
	всем желающим
	 принять участ
	ие в мероприятии\, запол
	нить анкету до 1 ноября (вкл
	ючительно)\n\n\n\n	 \n\n\n\n	Не з
	аполнившие анкету до 2
	3:59 часов 01 ноября и не в
	несшие 100% предоплату з
	а участие до 23:59 час
	ов 07 ноября\, на
	 мероприятие до
	пущены не будут
	  (Даже если вы
	 приедете на 
	базу отдыха\
	, будете стро
	ить глазки и
	 рассказыв
	ать кучу оп
	равданий и
	 причин\, по
	мешавших в
	ам зарегист
	рироваться и
	 предоплатить участие\
	, вы НЕ будете допущены
	 на мероприятие !!!)  
	\n\n\n\n	Прошу внимат
	ельно читать усл
	овия и соблюдать и
	х\, они для ВСЕХ одинаковые! 
	У нас ВСЕ особенные и ВСЕ \"свои\" )
	\n\n\n\n	Спасибо за понимание!\n\n
DTSTART;VALUE=DATE:20171110
DTEND;VALUE=DATE:20171113
ATTENDEE;CN="spbubk";CUTYPE=INDIVIDUAL;PARTSTAT=ACCEPTED:inf
	o@mustangclub.ru
ATTENDEE;CN="-=Царя=-";CUTYPE=INDIVIDUAL;PARTSTAT=ACCEPT
	ED:info@mustangclub.ru
END:VEVENT
END:VCALENDAR
