BEGIN:VCALENDAR
VERSION:2.0
PRODID:-//InvisionCommunity Events 4.7.19//EN
METHOD:PUBLISH
CALSCALE:GREGORIAN
REFRESH-INTERVAL:PT15M
X-PUBLISHED-TTL:PT15M
X-WR-CALNAME:Клубные мероприяти
NAME:Клубные мероприяти
BEGIN:VTIMEZONE
TZID:Europe/London
TZURL:http://tzurl.org/zoneinfo/Europe/London
X-LIC-LOCATION:Europe/London
BEGIN:DAYLIGHT
TZOFFSETFROM:+0000
TZOFFSETTO:+0100
TZNAME:BST
DTSTART:20190331T020000Z
RRULE:FREQ=YEARLY;BYMONTH=3;BYDAY=-1SU
END:DAYLIGHT
BEGIN:STANDARD
TZOFFSETFROM:+0100
TZOFFSETTO:+0000
TZNAME:GMT
DTSTART:20191027T020000Z
RRULE:FREQ=YEARLY;BYMONTH=10;BYDAY=-1SU
END:STANDARD
END:VTIMEZONE
BEGIN:VEVENT
SUMMARY:День Рождения Мустанга - Леген
	де 55 лет!
DTSTAMP:20181220T200616Z
SEQUENCE:0
UID:67-1-11684422a1d48435d15960105bb91fb7@mustangclub.ru
ORGANIZER;CN="Memphis":info@mustangclub.ru
DESCRIPTION:\n\n	Легенде 55 лет!\n\
	n\n\n	Уважаемы
	е члены клу
	ба и сочувствую
	щие! Наступает главны
	й Мустангерский праздни
	к в году - 17 апреля 201
	9 г. исполняется ровно 55 ле
	т как Форд презентовал м
	иру Ford Mustang. Именн
	о этот день мы счи
	таем Днём Рожден
	ия легендарного
	 автомобиля.\n\n\n\n	Приглаша
	ем всех владельцев автомобиле
	й Ford Mustang 20 апреля 2019 
	г. ярко отп
	раздновать
	 это событи
	е в компании с клубо
	м при непосредственном учас
	тии автомобилей Ford Mustang!\n\n\n\n	Пр
	ограмма мероприятия: \n\n
	\n\n	10.00 - Встреча на Смот
	ровой площадке (Воробьевы гор
	ы\, г.Москва).\n\n\n\n	10.30 -
	 Пробег от Смотровой 
	площадки до автодрома AD
	M Raceway (Московская област
	ь\, Раменский район\, аэродро
	м Мячково).\n\n\n\n	12.00 - 
	Прибытие на автодром\, 
	расстановка\, подготовка\, R
	C соревнования.\n\n\n\n	13.00 - Нач
	ало конкурсов:\n\n\n\n	- С
	лалом (змейка) классичес
	кая.\n\n	- Змейка задним ход
	ом\n\n	- \"Стакан воды\
	". На время надо
	 будет перестав
	ить 5 стаканов во
	ды с одного стола на друго
	й не уронив и не пролив из них вод
	ы.\n\n	- Start-Stop race (необ
	ходимо мак
	симально бы
	стро тронуться
	 от одной лини
	и и остановиться 
	четко не выехав за другую). Ра
	сстояние между линиями 20/30/40/50м\n
	\n	- Donuts KING - в соревно
	вании побежда
	ет тот\, кто накрутит вок
	руг конуса максимально ровны
	й круг\n\n	- Burnout KING - со
	ревновани
	е на сожжен
	ие покрыше
	к\, будет оц
	ениваться про
	должительность отжи
	га и количество дыма
	\, фантазия пилота\n\n\n\
	n	А так же статичн
	ые конкурсы :\n\n	Сам
	ый стильный Мустанг (об
	щее голосование).\n\n	Самый ух
	оженный S550\n\n	Самый ухоженный 
	S197\n\n	Самый ухоженный SN95\n\
	n	Самый ухоженный FOX\n\n	С
	амый ухоженный классич
	еский Мустанг\n\n\n\n	1
	8.00 - окончани
	е официальн
	ой части. Неформал
	ьное продолжение м
	ероприятия\, перемещени
	е в бар.\n\n\n\n	Стоимо
	сть участия:\n\n	Члены клуба/вл
	адельцы автомобилей Ford Mustang - 2
	000 руб/автомобиль\n\n	Гости 
	- 1000 руб/автомобиль\n\n\
	n\n	Взносы пожалуйста отп
	равляйте Антону Lazy по ном
	еру телефона 903-123-2552 (С
	бербанк\, Альфаб
	анк\, ВТБ)\, указывая в 
	комментариях рег.зна
	к автомобиля или ник.\
	n\n\n\n	ВСЕХ\, кто пл
	анирует прихеать\, просим запо
	лнить короткую анкету: https://forms.gle/2L4SkCkDEFrDE
	wgs5\n\n\n\n	 \n\n\n\n	 \n\n
DTSTART;VALUE=DATE:20190420
ATTENDEE;CN="Mery";CUTYPE=INDIVIDUAL;PARTSTAT=ACCEPTED:info@
	mustangclub.ru
ATTENDEE;CN="Lazy";CUTYPE=INDIVIDUAL;PARTSTAT=ACCEPTED:info@
	mustangclub.ru
ATTENDEE;CN="Njoy";CUTYPE=INDIVIDUAL;PARTSTAT=ACCEPTED:info@
	mustangclub.ru
ATTENDEE;CN="basta";CUTYPE=INDIVIDUAL;PARTSTAT=ACCEPTED:info
	@mustangclub.ru
ATTENDEE;CN="Katok";CUTYPE=INDIVIDUAL;PARTSTAT=ACCEPTED:info
	@mustangclub.ru
ATTENDEE;CN="Pavlentiy";CUTYPE=INDIVIDUAL;PARTSTAT=ACCEPTED:
	info@mustangclub.ru
ATTENDEE;CN="DimaBOSS";CUTYPE=INDIVIDUAL;PARTSTAT=ACCEPTED:i
	nfo@mustangclub.ru
ATTENDEE;CN="M`Fro";CUTYPE=INDIVIDUAL;PARTSTAT=ACCEPTED:info
	@mustangclub.ru
ATTENDEE;CN="SlavikM";CUTYPE=INDIVIDUAL;PARTSTAT=ACCEPTED:in
	fo@mustangclub.ru
ATTENDEE;CN="Talylrar";CUTYPE=INDIVIDUAL;PARTSTAT=ACCEPTED:i
	nfo@mustangclub.ru
ATTENDEE;CN="rugpoTA3uk";CUTYPE=INDIVIDUAL;PARTSTAT=ACCEPTED
	:info@mustangclub.ru
ATTENDEE;CN="Acidlight";CUTYPE=INDIVIDUAL;PARTSTAT=ACCEPTED:
	info@mustangclub.ru
ATTENDEE;CN="Apryl";CUTYPE=INDIVIDUAL;PARTSTAT=ACCEPTED:info
	@mustangclub.ru
ATTENDEE;CN="Костик";CUTYPE=INDIVIDUAL;PARTSTAT=ACCEPT
	ED:info@mustangclub.ru
ATTENDEE;CN="Северный Ветер";CUTYPE=INDIVIDUAL;
	PARTSTAT=ACCEPTED:info@mustangclub.ru
ATTENDEE;CN="DeemoNbl4";CUTYPE=INDIVIDUAL;PARTSTAT=ACCEPTED:
	info@mustangclub.ru
ATTENDEE;CN="Micael879";CUTYPE=INDIVIDUAL;PARTSTAT=ACCEPTED:
	info@mustangclub.ru
ATTENDEE;CN="PabloHasan";CUTYPE=INDIVIDUAL;PARTSTAT=ACCEPTED
	:info@mustangclub.ru
ATTENDEE;CN="Maxus";CUTYPE=INDIVIDUAL;PARTSTAT=ACCEPTED:info
	@mustangclub.ru
ATTENDEE;CN="Ska";CUTYPE=INDIVIDUAL;PARTSTAT=ACCEPTED:info@m
	ustangclub.ru
ATTENDEE;CN="CheCat";CUTYPE=INDIVIDUAL;PARTSTAT=ACCEPTED:inf
	o@mustangclub.ru
ATTENDEE;CN="Monaro";CUTYPE=INDIVIDUAL;PARTSTAT=ACCEPTED:inf
	o@mustangclub.ru
ATTENDEE;CN="Рыч";CUTYPE=INDIVIDUAL;PARTSTAT=ACCEPTED:inf
	o@mustangclub.ru
ATTENDEE;CN="dolgii13";CUTYPE=INDIVIDUAL;PARTSTAT=ACCEPTED:i
	nfo@mustangclub.ru
ATTENDEE;CN="Memphis";CUTYPE=INDIVIDUAL;PARTSTAT=ACCEPTED:in
	fo@mustangclub.ru
ATTENDEE;CN="amir97";CUTYPE=INDIVIDUAL;PARTSTAT=ACCEPTED:inf
	o@mustangclub.ru
ATTENDEE;CN="Dennis Black";CUTYPE=INDIVIDUAL;PARTSTAT=ACCEPT
	ED:info@mustangclub.ru
ATTENDEE;CN="Илья 13";CUTYPE=INDIVIDUAL;PARTSTAT=ACCEPTE
	D:info@mustangclub.ru
ATTENDEE;CN="Dzepo";CUTYPE=INDIVIDUAL;PARTSTAT=ACCEPTED:info
	@mustangclub.ru
ATTENDEE;CN="ARst";CUTYPE=INDIVIDUAL;PARTSTAT=ACCEPTED:info@
	mustangclub.ru
ATTENDEE;CN="MuscleFan";CUTYPE=INDIVIDUAL;PARTSTAT=ACCEPTED:
	info@mustangclub.ru
ATTENDEE;CN="Dron_1984";CUTYPE=INDIVIDUAL;PARTSTAT=ACCEPTED:
	info@mustangclub.ru
ATTENDEE;CN="Romka";CUTYPE=INDIVIDUAL;PARTSTAT=ACCEPTED:info
	@mustangclub.ru
ATTENDEE;CN="Ksushka";CUTYPE=INDIVIDUAL;PARTSTAT=ACCEPTED:in
	fo@mustangclub.ru
ATTENDEE;CN="Artemok";CUTYPE=INDIVIDUAL;PARTSTAT=ACCEPTED:in
	fo@mustangclub.ru
ATTENDEE;CN="Arman";CUTYPE=INDIVIDUAL;PARTSTAT=ACCEPTED:info
	@mustangclub.ru
ATTENDEE;CN="Alcatraz";CUTYPE=INDIVIDUAL;PARTSTAT=ACCEPTED:i
	nfo@mustangclub.ru
ATTENDEE;CN="pryanic";CUTYPE=INDIVIDUAL;PARTSTAT=ACCEPTED:in
	fo@mustangclub.ru
ATTENDEE;CN="LV_71";CUTYPE=INDIVIDUAL;PARTSTAT=ACCEPTED:info
	@mustangclub.ru
ATTENDEE;CN="banderlog";CUTYPE=INDIVIDUAL;PARTSTAT=ACCEPTED:
	info@mustangclub.ru
ATTENDEE;CN="shmel";CUTYPE=INDIVIDUAL;PARTSTAT=ACCEPTED:info
	@mustangclub.ru
ATTENDEE;CN="ollgt";CUTYPE=INDIVIDUAL;PARTSTAT=ACCEPTED:info
	@mustangclub.ru
ATTENDEE;CN="Corrado";CUTYPE=INDIVIDUAL;PARTSTAT=ACCEPTED:in
	fo@mustangclub.ru
END:VEVENT
END:VCALENDAR
